BEGIN:VCALENDAR
VERSION:2.0
PRODID:-//217.78.11.90//NONSGML kigkonsult.se iCalcreator 2.20//
CALSCALE:GREGORIAN
METHOD:PUBLISH
X-WR-CALNAME:Laois Youth Dance Ensemble
X-WR-CALDESC:A contemporary youth dance company that facilitates young peop
 le to create and produce contemporary dance works to a high standard of pe
 rformance\, through weekly workshops\, annual showcases and attendance at 
 renowned youth dance festivals such as Paris Dance Project (FR) and Dublin
  Youth Dance Festival.
X-FROM-URL:http://www.lyde.ie
X-WR-TIMEZONE:Atlantic/Azores
BEGIN:VTIMEZONE
TZID:Atlantic/Azores
X-LIC-LOCATION:Atlantic/Azores
BEGIN:STANDARD
DTSTART:20171029T010000
TZOFFSETFROM:+0000
TZOFFSETTO:-0100
TZNAME:-01
END:STANDARD
BEGIN:DAYLIGHT
DTSTART:20180325T000000
TZOFFSETFROM:-0100
TZOFFSETTO:+0000
TZNAME:+00
END:DAYLIGHT
END:VTIMEZONE
BEGIN:VEVENT
UID:ai1ec-762@www.lyde.ie
DTSTAMP:20171107T183006Z
CATEGORIES:
CONTACT:
DESCRIPTION:Seán O’Casey Bridge is a pedestrian swingbridge spanning the Ri
 ver Liffey in Dublin\, joining City Quay in the Grand Canal Docks area to 
 North Wall Quay and the IFSC
DTSTART;TZID=Atlantic/Azores:20171007T150000
DTEND;TZID=Atlantic/Azores:20171007T180000
SEQUENCE:0
SUMMARY:Seán O’Casey Bridge video Shoot
URL:http://www.lyde.ie/event/sean-ocasey-bridge-video-shoot/
X-COST-TYPE:free
X-ALT-DESC;FMTTYPE=text/html:<!DOCTYPE HTML PUBLIC '-//W3C//DTD HTML 3.2//E
 N'>\\n<HTML>\\n<HEAD>\\n<TITLE></TITLE>\\n</HEAD>\\n<BODY><p>Seán O’Casey 
 Bridge is a pedestrian swingbridge spanning the River Liffey in Dublin\, j
 oining City Quay in the Grand Canal Docks area to North Wall Quay and the 
 IFSC</p>\n</BODY></HTML>
END:VEVENT
END:VCALENDAR
